BEGIN:VCALENDAR
VERSION:2.0
PRODID:-//Inspire Resort - ECPv6.15.20//NONSGML v1.0//EN
CALSCALE:GREGORIAN
METHOD:PUBLISH
X-ORIGINAL-URL:https://inspirebeachresort.com
X-WR-CALDESC:Events for Inspire Resort
REFRESH-INTERVAL;VALUE=DURATION:PT1H
X-Robots-Tag:noindex
X-PUBLISHED-TTL:PT1H
BEGIN:VTIMEZONE
TZID:America/Toronto
BEGIN:DAYLIGHT
TZOFFSETFROM:-0500
TZOFFSETTO:-0400
TZNAME:EDT
DTSTART:20220313T070000
END:DAYLIGHT
BEGIN:STANDARD
TZOFFSETFROM:-0400
TZOFFSETTO:-0500
TZNAME:EST
DTSTART:20221106T060000
END:STANDARD
BEGIN:DAYLIGHT
TZOFFSETFROM:-0500
TZOFFSETTO:-0400
TZNAME:EDT
DTSTART:20230312T070000
END:DAYLIGHT
BEGIN:STANDARD
TZOFFSETFROM:-0400
TZOFFSETTO:-0500
TZNAME:EST
DTSTART:20231105T060000
END:STANDARD
BEGIN:DAYLIGHT
TZOFFSETFROM:-0500
TZOFFSETTO:-0400
TZNAME:EDT
DTSTART:20240310T070000
END:DAYLIGHT
BEGIN:STANDARD
TZOFFSETFROM:-0400
TZOFFSETTO:-0500
TZNAME:EST
DTSTART:20241103T060000
END:STANDARD
END:VTIMEZONE
BEGIN:VEVENT
DTSTART;TZID=America/Toronto:20230303T080000
DTEND;TZID=America/Toronto:20230303T170000
DTSTAMP:20260421T040052
CREATED:20230303T170905Z
LAST-MODIFIED:20230303T170905Z
UID:2215-1677830400-1677862800@inspirebeachresort.com
SUMMARY:Healthy Indulgence Retreat
DESCRIPTION:Healthy Indulgence Retreat\nMay 26 to 28 2023 \n  \n\nTwo-night accommodation: choose on-site or off-site.\nYoga. Deepening our stretch\, intensifying your practice. Meditation and contemplation. Gentle yoga and savasana.\nChocolate workshop & tasting by SOMA.\nWine tasting.\nAll meals\, snacks and beverages included.\nOther activities include kayaking\, hiking\, paddle boarding\, swimming and more.\nExperience the ultimate in sensory indulgence and self-care. Leave feeling refreshed and relaxed. Meet others who value good taste and good health. Combine the peace and tranquility of nature with the beauty of excellent food and wine.\n\n\n\n\nTime\nFriday\nSaturday\nSunday\n\n\n\n\n7-8:30 am\n\nwake\, tea\, breakfast\, transition\nwake\, tea\, breakfast\, transition\n\n\n8:30-9/9:15 am\n\nmeditation and contemplation (coming to our senses exercise)\nmeditation and contemplation (resting in indulgent spaciousness)\n\n\n9:15 – 10:30 am\n\ngentle yoga and savasana\ngentle yoga and savasana\n\n\n10:30-12:30 pm\n\nspaciousness: kayak\, paddle board\, swim\, read\, indulge\nspaciousness: kayak\, paddle board\, swim\, read\, indulge\n\n\n12:30-2 pm\n\nlunch and social\nlunch and social\n\n\n2-2:30 pm\narrival\ntransition\nclosing your retreat\n\n\n2:30-3:45 pm\ntransition – tea/coffee station\nyoga – intensifying your practice 1\nyoga – intensifying your practice 2\n\n\n3:45 pm – 4:39 pm\nIntro to your retreat\ntransition\nClosing your retreat\n\n\n4:30 pm – 6:30 pm workshop\nchocolate workshop and tasting\nhors d’oeuvres and wine pairing workshop\n\n\n\n6:30 – 7:00 pm\nhors d’oeuvres and welcome cocktails\ndinner\, dessert and more wine\n\n\n\n7-9/10 pm\ndinner\, dessert and ice wine tasting\ndinner\, dessert and more wine
URL:https://inspirebeachresort.com/event/healthy-indulgence-retreat/
CATEGORIES:food and wine,health,yoga
ATTACH;FMTTYPE=image/png:https://inspirebeachresort.com/wp-content/uploads/2023/03/Screenshot-2023-03-03-at-12.08.36-PM.png
END:VEVENT
END:VCALENDAR