BEGIN:VCALENDAR
VERSION:2.0
PRODID:-//Inspire Resort - ECPv6.15.20//NONSGML v1.0//EN
CALSCALE:GREGORIAN
METHOD:PUBLISH
X-ORIGINAL-URL:https://inspirebeachresort.com
X-WR-CALDESC:Events for Inspire Resort
REFRESH-INTERVAL;VALUE=DURATION:PT1H
X-Robots-Tag:noindex
X-PUBLISHED-TTL:PT1H
BEGIN:VTIMEZONE
TZID:America/Toronto
BEGIN:DAYLIGHT
TZOFFSETFROM:-0500
TZOFFSETTO:-0400
TZNAME:EDT
DTSTART:20220313T070000
END:DAYLIGHT
BEGIN:STANDARD
TZOFFSETFROM:-0400
TZOFFSETTO:-0500
TZNAME:EST
DTSTART:20221106T060000
END:STANDARD
BEGIN:DAYLIGHT
TZOFFSETFROM:-0500
TZOFFSETTO:-0400
TZNAME:EDT
DTSTART:20230312T070000
END:DAYLIGHT
BEGIN:STANDARD
TZOFFSETFROM:-0400
TZOFFSETTO:-0500
TZNAME:EST
DTSTART:20231105T060000
END:STANDARD
BEGIN:DAYLIGHT
TZOFFSETFROM:-0500
TZOFFSETTO:-0400
TZNAME:EDT
DTSTART:20240310T070000
END:DAYLIGHT
BEGIN:STANDARD
TZOFFSETFROM:-0400
TZOFFSETTO:-0500
TZNAME:EST
DTSTART:20241103T060000
END:STANDARD
END:VTIMEZONE
BEGIN:VEVENT
DTSTART;TZID=America/Toronto:20230507T110000
DTEND;TZID=America/Toronto:20230507T160000
DTSTAMP:20260420T224936
CREATED:20230328T185205Z
LAST-MODIFIED:20230418T150110Z
UID:2569-1683457200-1683475200@inspirebeachresort.com
SUMMARY:Inspire - Open House - May
DESCRIPTION:  \n\nJoin us to enjoy our amazing location at our Resort Open House\nSunday\, May 7th from 11 am to 4 pm.\nResort Open House\nThis resort open house gives you the opportunity to tour and speak to the Inspire team. \n\nTour the themed cabins – or check them out here\nHear about upcoming events and retreats – see the latest updates here\nIndulge in a tasty BBQ and refreshing beverages\nRelax at the beach and enjoy the 6 acres of serene waterfront\nConnect with other professionals\, entrepreneurs and others\nMeet local vendors and businesses\nBe entertained by live music\n\nPlease register your attendance at our resort open house so we can plan for numbers. \nPlease enable JavaScript in your browser to complete this form.Name *FirstLastEmail *PhoneRegister for more details aboutAccommodationsPrivate Curated EventsInspire and Partner RetreatsSpecial OffersAny additional comments or questionsRegister me for the May Open House  \nAt our resort open house experience a true haven\, designed to provide guests with an unforgettable experience. From the moment you arrive\, you will be swept away by the stunning scenery and tranquil setting. The resort is situated on the shores of a beautiful lake\, surrounded by lush greenery.  The air is fresh and pure\, and the ambiance is calm and serene. \nInspire Beach Resort is a luxury-themed lakeside resort and a true gem in the heart of Kawartha Lakes. With its unique furnishings\, curated events\, tranquil setting\, and focus on relaxation\, it is the perfect destination for anyone looking for a truly indulgent getaway. \nOne of the standout features of the resort are the unique furnishings in themed cabins. Each room is exquisitely decorated with pieces that are both beautiful and functional. The furniture is made from high-quality materials\, such as rich woods and plush fabrics\, and each piece is carefully selected to fit the overall aesthetic of the resort. Whether you are lounging in your private cabin or relaxing by the lake or firepit\, you will feel surrounded by the utmost comfort and elegance. \nIn addition to the beautiful surroundings and luxurious accommodations\, the resort also offers curated events to enhance your stay. From chef prepared meals to yoga classes\, there is always something happening at the resort. These events are designed to be intimate and personalized\, so you can enjoy them with a small group or as part of a larger curated event. The resort staff will work with you to create an itinerary that fits your interests and schedule.
URL:https://inspirebeachresort.com/event/may-open-house/
CATEGORIES:entrepreneur,food and wine,health,personal development,real estate investing,wealth,yoga
ATTACH;FMTTYPE=image/png:https://inspirebeachresort.com/wp-content/uploads/2023/03/IBR-Open-House-2.png
END:VEVENT
END:VCALENDAR